BEGIN:VCALENDAR
VERSION:2.0
PRODID:-//Ibibrasil - ECPv6.15.20//NONSGML v1.0//EN
CALSCALE:GREGORIAN
METHOD:PUBLISH
X-ORIGINAL-URL:https://ibibrasil.org.br
X-WR-CALDESC:Eventos para Ibibrasil
REFRESH-INTERVAL;VALUE=DURATION:PT1H
X-Robots-Tag:noindex
X-PUBLISHED-TTL:PT1H
BEGIN:VTIMEZONE
TZID:America/Sao_Paulo
BEGIN:STANDARD
TZOFFSETFROM:-0300
TZOFFSETTO:-0300
TZNAME:-03
DTSTART:20240101T000000
END:STANDARD
END:VTIMEZONE
BEGIN:VEVENT
DTSTART;TZID=America/Sao_Paulo:20250910T150000
DTEND;TZID=America/Sao_Paulo:20250910T170000
DTSTAMP:20260421T150255
CREATED:20250624T134111Z
LAST-MODIFIED:20250624T134111Z
UID:10000185-1757516400-1757523600@ibibrasil.org.br
SUMMARY:Câmara dos Projetistas
DESCRIPTION:(Exclusivo para Projetistas associados ao IBI) \nSeja um Projetista Associado! \nInscrição Associado – Ibibrasil
URL:https://ibibrasil.org.br/agenda/camara-dos-projetistas-13/2025-09-10/
CATEGORIES:Câmara
END:VEVENT
BEGIN:VEVENT
DTSTART;TZID=America/Sao_Paulo:20250916T090000
DTEND;TZID=America/Sao_Paulo:20250916T120000
DTSTAMP:20260421T150255
CREATED:20250624T134607Z
LAST-MODIFIED:20250624T134607Z
UID:10000191-1758013200-1758024000@ibibrasil.org.br
SUMMARY:Câmara dos Fabricantes
DESCRIPTION:(Exclusivo para Fabricantes associados ao IBI) \nSeja um Fabricante Associado! \nInscrição Associado – Ibibrasil
URL:https://ibibrasil.org.br/agenda/camara-dos-fabricantes-12/
CATEGORIES:Câmara
END:VEVENT
BEGIN:VEVENT
DTSTART;TZID=America/Sao_Paulo:20250917T160000
DTEND;TZID=America/Sao_Paulo:20250917T180000
DTSTAMP:20260421T150255
CREATED:20250624T133633Z
LAST-MODIFIED:20250624T133633Z
UID:10000183-1758124800-1758132000@ibibrasil.org.br
SUMMARY:Câmara dos Aplicadores
DESCRIPTION:
URL:https://ibibrasil.org.br/agenda/camara-dos-aplicadores-15/2025-09-17/
CATEGORIES:Câmara
END:VEVENT
END:VCALENDAR