BEGIN:VCALENDAR
VERSION:2.0
PRODID:-//Ibibrasil - ECPv6.15.20//NONSGML v1.0//EN
CALSCALE:GREGORIAN
METHOD:PUBLISH
X-WR-CALNAME:Ibibrasil
X-ORIGINAL-URL:https://ibibrasil.org.br
X-WR-CALDESC:Eventos para Ibibrasil
REFRESH-INTERVAL;VALUE=DURATION:PT1H
X-Robots-Tag:noindex
X-PUBLISHED-TTL:PT1H
BEGIN:VTIMEZONE
TZID:America/Sao_Paulo
BEGIN:STANDARD
TZOFFSETFROM:-0300
TZOFFSETTO:-0300
TZNAME:-03
DTSTART:20240101T000000
END:STANDARD
END:VTIMEZONE
BEGIN:VEVENT
DTSTART;TZID=America/Sao_Paulo:20251112T150000
DTEND;TZID=America/Sao_Paulo:20251112T170000
DTSTAMP:20260421T131913
CREATED:20250624T134324Z
LAST-MODIFIED:20250624T134324Z
UID:10000188-1762959600-1762966800@ibibrasil.org.br
SUMMARY:Câmara dos Projetistas
DESCRIPTION:(Exclusivo para Projetistas associados ao IBI) \nSeja um Projetista Associado! \nInscrição Associado – Ibibrasil
URL:https://ibibrasil.org.br/agenda/camara-dos-projetistas-16/2025-11-12/
CATEGORIES:Câmara
END:VEVENT
BEGIN:VEVENT
DTSTART;TZID=America/Sao_Paulo:20251112T160000
DTEND;TZID=America/Sao_Paulo:20251112T180000
DTSTAMP:20260421T131913
CREATED:20250624T133510Z
LAST-MODIFIED:20250624T133510Z
UID:10000182-1762963200-1762970400@ibibrasil.org.br
SUMMARY:Câmara dos Aplicadores
DESCRIPTION:
URL:https://ibibrasil.org.br/agenda/camara-dos-aplicadores-14/2025-11-12/
CATEGORIES:Câmara
END:VEVENT
BEGIN:VEVENT
DTSTART;TZID=America/Sao_Paulo:20251118T090000
DTEND;TZID=America/Sao_Paulo:20251118T120000
DTSTAMP:20260421T131913
CREATED:20250624T134653Z
LAST-MODIFIED:20250624T134653Z
UID:10000193-1763456400-1763467200@ibibrasil.org.br
SUMMARY:Câmara dos Fabricantes
DESCRIPTION:(Exclusivo para Fabricantes associados ao IBI) \nSeja um Fabricante Associado! \nInscrição Associado – Ibibrasil
URL:https://ibibrasil.org.br/agenda/camara-dos-fabricantes-14/
CATEGORIES:Câmara
END:VEVENT
END:VCALENDAR