BEGIN:VCALENDAR
VERSION:2.0
PRODID:-//Ibibrasil - ECPv6.15.20//NONSGML v1.0//EN
CALSCALE:GREGORIAN
METHOD:PUBLISH
X-ORIGINAL-URL:https://ibibrasil.org.br
X-WR-CALDESC:Eventos para Ibibrasil
REFRESH-INTERVAL;VALUE=DURATION:PT1H
X-Robots-Tag:noindex
X-PUBLISHED-TTL:PT1H
BEGIN:VTIMEZONE
TZID:America/Sao_Paulo
BEGIN:STANDARD
TZOFFSETFROM:-0300
TZOFFSETTO:-0300
TZNAME:-03
DTSTART:20250101T000000
END:STANDARD
END:VTIMEZONE
BEGIN:VEVENT
DTSTART;TZID=America/Sao_Paulo:20260114T150000
DTEND;TZID=America/Sao_Paulo:20260114T170000
DTSTAMP:20260421T123458
CREATED:20260116T183121Z
LAST-MODIFIED:20260116T183121Z
UID:10000261-1768402800-1768410000@ibibrasil.org.br
SUMMARY:Câmara dos Projetistas
DESCRIPTION:(Exclusivo para Projetistas associados ao IBI) \nSeja um Projetista Associado! \nInscrição Associado – Ibibrasil
URL:https://ibibrasil.org.br/agenda/camara-dos-projetistas-18/2026-01-14/
CATEGORIES:Câmara
END:VEVENT
BEGIN:VEVENT
DTSTART;TZID=America/Sao_Paulo:20260120T100000
DTEND;TZID=America/Sao_Paulo:20260120T120000
DTSTAMP:20260421T123458
CREATED:20260116T183623Z
LAST-MODIFIED:20260116T183623Z
UID:10000267-1768903200-1768910400@ibibrasil.org.br
SUMMARY:Câmara dos Fabricantes
DESCRIPTION:(Exclusivo para Fabricantes associados ao IBI) \nSeja um Fabricante Associado! \nInscrição Associado – Ibibrasil
URL:https://ibibrasil.org.br/agenda/camara-dos-fabricantes-15/
CATEGORIES:Câmara
END:VEVENT
BEGIN:VEVENT
DTSTART;TZID=America/Sao_Paulo:20260121T173000
DTEND;TZID=America/Sao_Paulo:20260121T180000
DTSTAMP:20260421T123458
CREATED:20260116T184239Z
LAST-MODIFIED:20260117T151933Z
UID:10000273-1769016600-1769018400@ibibrasil.org.br
SUMMARY:Câmara dos Aplicadores
DESCRIPTION:(Exclusivo para Aplicadores associados ao IBI) \nSeja um Fabricante Associado! \nInscrição Associado – Ibibrasil
URL:https://ibibrasil.org.br/agenda/camara-dos-aplicadores-16/2026-01-21/
CATEGORIES:Câmara
END:VEVENT
END:VCALENDAR