BEGIN:VCALENDAR
VERSION:2.0
PRODID:-//Ibibrasil - ECPv6.15.20//NONSGML v1.0//EN
CALSCALE:GREGORIAN
METHOD:PUBLISH
X-ORIGINAL-URL:https://ibibrasil.org.br
X-WR-CALDESC:Eventos para Ibibrasil
REFRESH-INTERVAL;VALUE=DURATION:PT1H
X-Robots-Tag:noindex
X-PUBLISHED-TTL:PT1H
BEGIN:VTIMEZONE
TZID:America/Sao_Paulo
BEGIN:STANDARD
TZOFFSETFROM:-0300
TZOFFSETTO:-0300
TZNAME:-03
DTSTART:20250101T000000
END:STANDARD
END:VTIMEZONE
BEGIN:VEVENT
DTSTART;TZID=America/Sao_Paulo:20260311T150000
DTEND;TZID=America/Sao_Paulo:20260311T170000
DTSTAMP:20260421T093537
CREATED:20260116T183147Z
LAST-MODIFIED:20260116T183147Z
UID:10000262-1773241200-1773248400@ibibrasil.org.br
SUMMARY:Câmara dos Projetistas
DESCRIPTION:(Exclusivo para Projetistas associados ao IBI) \nSeja um Projetista Associado! \nInscrição Associado – Ibibrasil
URL:https://ibibrasil.org.br/agenda/camara-dos-projetistas-19/2026-03-11/
CATEGORIES:Câmara
END:VEVENT
BEGIN:VEVENT
DTSTART;TZID=America/Sao_Paulo:20260317T100000
DTEND;TZID=America/Sao_Paulo:20260317T120000
DTSTAMP:20260421T093537
CREATED:20260116T183726Z
LAST-MODIFIED:20260116T183726Z
UID:10000268-1773741600-1773748800@ibibrasil.org.br
SUMMARY:Câmara dos Fabricantes
DESCRIPTION:(Exclusivo para Fabricantes associados ao IBI) \nSeja um Fabricante Associado! \nInscrição Associado – Ibibrasil
URL:https://ibibrasil.org.br/agenda/camara-dos-fabricantes-16/
CATEGORIES:Câmara
END:VEVENT
BEGIN:VEVENT
DTSTART;TZID=America/Sao_Paulo:20260318T173000
DTEND;TZID=America/Sao_Paulo:20260318T180000
DTSTAMP:20260421T093537
CREATED:20260116T184302Z
LAST-MODIFIED:20260117T151927Z
UID:10000274-1773855000-1773856800@ibibrasil.org.br
SUMMARY:Câmara dos Aplicadores
DESCRIPTION:(Exclusivo para Aplicadores associados ao IBI) \nSeja um Fabricante Associado! \nInscrição Associado – Ibibrasil
URL:https://ibibrasil.org.br/agenda/camara-dos-aplicadores-17/2026-03-18/
CATEGORIES:Câmara
END:VEVENT
END:VCALENDAR