BEGIN:VCALENDAR
VERSION:2.0
PRODID:-//Ibibrasil - ECPv6.15.20//NONSGML v1.0//EN
CALSCALE:GREGORIAN
METHOD:PUBLISH
X-ORIGINAL-URL:https://ibibrasil.org.br
X-WR-CALDESC:Eventos para Ibibrasil
REFRESH-INTERVAL;VALUE=DURATION:PT1H
X-Robots-Tag:noindex
X-PUBLISHED-TTL:PT1H
BEGIN:VTIMEZONE
TZID:America/Sao_Paulo
BEGIN:STANDARD
TZOFFSETFROM:-0300
TZOFFSETTO:-0300
TZNAME:-03
DTSTART:20250101T000000
END:STANDARD
END:VTIMEZONE
BEGIN:VEVENT
DTSTART;TZID=America/Sao_Paulo:20260504T090000
DTEND;TZID=America/Sao_Paulo:20260504T110000
DTSTAMP:20260421T095247
CREATED:20260117T153720Z
LAST-MODIFIED:20260417T135427Z
UID:10000315-1777885200-1777892400@ibibrasil.org.br
SUMMARY:Câmara dos Aditivos
DESCRIPTION:(Exclusivo para Aditivos associados ao IBI) \nSeja um Projetista Associado! \nInscrição Associado – Ibibrasil
URL:https://ibibrasil.org.br/agenda/camara-dos-aditivos-4/
CATEGORIES:Câmara
END:VEVENT
BEGIN:VEVENT
DTSTART;TZID=America/Sao_Paulo:20260513T150000
DTEND;TZID=America/Sao_Paulo:20260513T170000
DTSTAMP:20260421T095247
CREATED:20260116T183211Z
LAST-MODIFIED:20260116T183211Z
UID:10000263-1778684400-1778691600@ibibrasil.org.br
SUMMARY:Câmara dos Projetistas
DESCRIPTION:(Exclusivo para Projetistas associados ao IBI) \nSeja um Projetista Associado! \nInscrição Associado – Ibibrasil
URL:https://ibibrasil.org.br/agenda/camara-dos-projetistas-20/2026-05-13/
CATEGORIES:Câmara
END:VEVENT
BEGIN:VEVENT
DTSTART;TZID=America/Sao_Paulo:20260519T100000
DTEND;TZID=America/Sao_Paulo:20260519T120000
DTSTAMP:20260421T095247
CREATED:20260116T183807Z
LAST-MODIFIED:20260116T183807Z
UID:10000269-1779184800-1779192000@ibibrasil.org.br
SUMMARY:Câmara dos Fabricantes
DESCRIPTION:(Exclusivo para Fabricantes associados ao IBI) \nSeja um Fabricante Associado! \nInscrição Associado – Ibibrasil
URL:https://ibibrasil.org.br/agenda/camara-dos-fabricantes-17/
CATEGORIES:Câmara
END:VEVENT
BEGIN:VEVENT
DTSTART;TZID=America/Sao_Paulo:20260520T173000
DTEND;TZID=America/Sao_Paulo:20260520T180000
DTSTAMP:20260421T095247
CREATED:20260116T184325Z
LAST-MODIFIED:20260117T151921Z
UID:10000275-1779298200-1779300000@ibibrasil.org.br
SUMMARY:Câmara dos Aplicadores
DESCRIPTION:(Exclusivo para Aplicadores associados ao IBI) \nSeja um Fabricante Associado! \nInscrição Associado – Ibibrasil
URL:https://ibibrasil.org.br/agenda/camara-dos-aplicadores-18/2026-05-20/
CATEGORIES:Câmara
END:VEVENT
END:VCALENDAR