BEGIN:VCALENDAR
VERSION:2.0
PRODID:-//Ibibrasil - ECPv6.15.20//NONSGML v1.0//EN
CALSCALE:GREGORIAN
METHOD:PUBLISH
X-WR-CALNAME:Ibibrasil
X-ORIGINAL-URL:https://ibibrasil.org.br
X-WR-CALDESC:Eventos para Ibibrasil
REFRESH-INTERVAL;VALUE=DURATION:PT1H
X-Robots-Tag:noindex
X-PUBLISHED-TTL:PT1H
BEGIN:VTIMEZONE
TZID:America/Sao_Paulo
BEGIN:STANDARD
TZOFFSETFROM:-0300
TZOFFSETTO:-0300
TZNAME:-03
DTSTART:20250101T000000
END:STANDARD
END:VTIMEZONE
BEGIN:VEVENT
DTSTART;TZID=America/Sao_Paulo:20260708T150000
DTEND;TZID=America/Sao_Paulo:20260708T170000
DTSTAMP:20260421T122243
CREATED:20260116T183244Z
LAST-MODIFIED:20260116T183244Z
UID:10000264-1783522800-1783530000@ibibrasil.org.br
SUMMARY:Câmara dos Projetistas
DESCRIPTION:(Exclusivo para Projetistas associados ao IBI) \nSeja um Projetista Associado! \nInscrição Associado – Ibibrasil
URL:https://ibibrasil.org.br/agenda/camara-dos-projetistas-21/2026-07-08/
CATEGORIES:Câmara
END:VEVENT
BEGIN:VEVENT
DTSTART;TZID=America/Sao_Paulo:20260715T173000
DTEND;TZID=America/Sao_Paulo:20260715T180000
DTSTAMP:20260421T122243
CREATED:20260116T184405Z
LAST-MODIFIED:20260117T151906Z
UID:10000276-1784136600-1784138400@ibibrasil.org.br
SUMMARY:Câmara dos Aplicadores
DESCRIPTION:(Exclusivo para Aplicadores associados ao IBI) \nSeja um Fabricante Associado! \nInscrição Associado – Ibibrasil
URL:https://ibibrasil.org.br/agenda/camara-dos-aplicadores-19/2026-07-15/
CATEGORIES:Câmara
END:VEVENT
BEGIN:VEVENT
DTSTART;TZID=America/Sao_Paulo:20260721T100000
DTEND;TZID=America/Sao_Paulo:20260721T120000
DTSTAMP:20260421T122243
CREATED:20260116T183854Z
LAST-MODIFIED:20260116T183854Z
UID:10000270-1784628000-1784635200@ibibrasil.org.br
SUMMARY:Câmara dos Fabricantes
DESCRIPTION:(Exclusivo para Fabricantes associados ao IBI) \nSeja um Fabricante Associado! \nInscrição Associado – Ibibrasil
URL:https://ibibrasil.org.br/agenda/camara-dos-fabricantes-18/
CATEGORIES:Câmara
END:VEVENT
END:VCALENDAR