BEGIN:VCALENDAR
VERSION:2.0
PRODID:-//Ibibrasil - ECPv6.15.20//NONSGML v1.0//EN
CALSCALE:GREGORIAN
METHOD:PUBLISH
X-WR-CALNAME:Ibibrasil
X-ORIGINAL-URL:https://ibibrasil.org.br
X-WR-CALDESC:Eventos para Ibibrasil
REFRESH-INTERVAL;VALUE=DURATION:PT1H
X-Robots-Tag:noindex
X-PUBLISHED-TTL:PT1H
BEGIN:VTIMEZONE
TZID:America/Sao_Paulo
BEGIN:STANDARD
TZOFFSETFROM:-0300
TZOFFSETTO:-0300
TZNAME:-03
DTSTART:20250101T000000
END:STANDARD
END:VTIMEZONE
BEGIN:VEVENT
DTSTART;TZID=America/Sao_Paulo:20260803T090000
DTEND;TZID=America/Sao_Paulo:20260803T160000
DTSTAMP:20260421T131624
CREATED:20260117T154015Z
LAST-MODIFIED:20260401T150602Z
UID:10000318-1785747600-1785772800@ibibrasil.org.br
SUMMARY:Câmara dos Aditivos
DESCRIPTION:(Exclusivo para Aditivos associados ao IBI) \nSeja um Projetista Associado! \nInscrição Associado – Ibibrasil
URL:https://ibibrasil.org.br/agenda/camara-dos-aditivos-7/
CATEGORIES:Câmara
END:VEVENT
BEGIN:VEVENT
DTSTART;TZID=America/Sao_Paulo:20260812T100000
DTEND;TZID=America/Sao_Paulo:20260812T180000
DTSTAMP:20260421T131624
CREATED:20260117T152323Z
LAST-MODIFIED:20260117T152323Z
UID:10000310-1786528800-1786557600@ibibrasil.org.br
SUMMARY:Multi Câmaras
DESCRIPTION:(Exclusivo para Fabricantes\, Projetistas\, Aplicadores e Aditivos associados ao IBI) \nSeja um Fabricante Associado! \nInscrição Associado – Ibibrasil
URL:https://ibibrasil.org.br/agenda/multi-camaras-4/2026-08-12/
CATEGORIES:Câmara
END:VEVENT
END:VCALENDAR