BEGIN:VCALENDAR
VERSION:2.0
PRODID:-//Ibibrasil - ECPv6.15.20//NONSGML v1.0//EN
CALSCALE:GREGORIAN
METHOD:PUBLISH
X-ORIGINAL-URL:https://ibibrasil.org.br
X-WR-CALDESC:Eventos para Ibibrasil
REFRESH-INTERVAL;VALUE=DURATION:PT1H
X-Robots-Tag:noindex
X-PUBLISHED-TTL:PT1H
BEGIN:VTIMEZONE
TZID:America/Sao_Paulo
BEGIN:STANDARD
TZOFFSETFROM:-0300
TZOFFSETTO:-0300
TZNAME:-03
DTSTART:20250101T000000
END:STANDARD
END:VTIMEZONE
BEGIN:VEVENT
DTSTART;TZID=America/Sao_Paulo:20260915T100000
DTEND;TZID=America/Sao_Paulo:20260915T120000
DTSTAMP:20260421T145906
CREATED:20260116T183917Z
LAST-MODIFIED:20260116T183917Z
UID:10000271-1789466400-1789473600@ibibrasil.org.br
SUMMARY:Câmara dos Fabricantes
DESCRIPTION:(Exclusivo para Fabricantes associados ao IBI) \nSeja um Fabricante Associado! \nInscrição Associado – Ibibrasil
URL:https://ibibrasil.org.br/agenda/camara-dos-fabricantes-19/
CATEGORIES:Câmara
END:VEVENT
BEGIN:VEVENT
DTSTART;TZID=America/Sao_Paulo:20260916T150000
DTEND;TZID=America/Sao_Paulo:20260916T170000
DTSTAMP:20260421T145906
CREATED:20260116T183308Z
LAST-MODIFIED:20260116T183308Z
UID:10000265-1789570800-1789578000@ibibrasil.org.br
SUMMARY:Câmara dos Projetistas
DESCRIPTION:(Exclusivo para Projetistas associados ao IBI) \nSeja um Projetista Associado! \nInscrição Associado – Ibibrasil
URL:https://ibibrasil.org.br/agenda/camara-dos-projetistas-22/2026-09-16/
CATEGORIES:Câmara
END:VEVENT
BEGIN:VEVENT
DTSTART;TZID=America/Sao_Paulo:20260916T173000
DTEND;TZID=America/Sao_Paulo:20260916T180000
DTSTAMP:20260421T145906
CREATED:20260116T184428Z
LAST-MODIFIED:20260117T151858Z
UID:10000277-1789579800-1789581600@ibibrasil.org.br
SUMMARY:Câmara dos Aplicadores
DESCRIPTION:(Exclusivo para Aplicadores associados ao IBI) \nSeja um Fabricante Associado! \nInscrição Associado – Ibibrasil
URL:https://ibibrasil.org.br/agenda/camara-dos-aplicadores-20/2026-09-16/
CATEGORIES:Câmara
END:VEVENT
END:VCALENDAR