BEGIN:VCALENDAR
VERSION:2.0
PRODID:-//Ibibrasil - ECPv6.15.20//NONSGML v1.0//EN
CALSCALE:GREGORIAN
METHOD:PUBLISH
X-ORIGINAL-URL:https://ibibrasil.org.br
X-WR-CALDESC:Eventos para Ibibrasil
REFRESH-INTERVAL;VALUE=DURATION:PT1H
X-Robots-Tag:noindex
X-PUBLISHED-TTL:PT1H
BEGIN:VTIMEZONE
TZID:America/Sao_Paulo
BEGIN:STANDARD
TZOFFSETFROM:-0300
TZOFFSETTO:-0300
TZNAME:-03
DTSTART:20250101T000000
END:STANDARD
END:VTIMEZONE
BEGIN:VEVENT
DTSTART;TZID=America/Sao_Paulo:20261111T150000
DTEND;TZID=America/Sao_Paulo:20261111T170000
DTSTAMP:20260421T143150
CREATED:20260116T183329Z
LAST-MODIFIED:20260116T183329Z
UID:10000266-1794409200-1794416400@ibibrasil.org.br
SUMMARY:Câmara dos Projetistas
DESCRIPTION:(Exclusivo para Projetistas associados ao IBI) \nSeja um Projetista Associado! \nInscrição Associado – Ibibrasil
URL:https://ibibrasil.org.br/agenda/camara-dos-projetistas-23/2026-11-11/
CATEGORIES:Câmara
END:VEVENT
BEGIN:VEVENT
DTSTART;TZID=America/Sao_Paulo:20261117T100000
DTEND;TZID=America/Sao_Paulo:20261117T120000
DTSTAMP:20260421T143150
CREATED:20260116T183941Z
LAST-MODIFIED:20260116T183941Z
UID:10000272-1794909600-1794916800@ibibrasil.org.br
SUMMARY:Câmara dos Fabricantes
DESCRIPTION:(Exclusivo para Fabricantes associados ao IBI) \nSeja um Fabricante Associado! \nInscrição Associado – Ibibrasil
URL:https://ibibrasil.org.br/agenda/camara-dos-fabricantes-20/
CATEGORIES:Câmara
END:VEVENT
BEGIN:VEVENT
DTSTART;TZID=America/Sao_Paulo:20261118T173000
DTEND;TZID=America/Sao_Paulo:20261118T180000
DTSTAMP:20260421T143150
CREATED:20260116T184455Z
LAST-MODIFIED:20260117T151851Z
UID:10000278-1795023000-1795024800@ibibrasil.org.br
SUMMARY:Câmara dos Aplicadores
DESCRIPTION:(Exclusivo para Aplicadores associados ao IBI) \nSeja um Fabricante Associado! \nInscrição Associado – Ibibrasil
URL:https://ibibrasil.org.br/agenda/camara-dos-aplicadores-21/2026-11-18/
CATEGORIES:Câmara
END:VEVENT
END:VCALENDAR