BEGIN:VCALENDAR
VERSION:2.0
PRODID:-//Ibibrasil - ECPv6.15.20//NONSGML v1.0//EN
CALSCALE:GREGORIAN
METHOD:PUBLISH
X-ORIGINAL-URL:https://ibibrasil.org.br
X-WR-CALDESC:Eventos para Ibibrasil
REFRESH-INTERVAL;VALUE=DURATION:PT1H
X-Robots-Tag:noindex
X-PUBLISHED-TTL:PT1H
BEGIN:VTIMEZONE
TZID:America/Sao_Paulo
BEGIN:STANDARD
TZOFFSETFROM:-0300
TZOFFSETTO:-0300
TZNAME:-03
DTSTART:20240101T000000
END:STANDARD
END:VTIMEZONE
BEGIN:VEVENT
DTSTART;VALUE=DATE:20250819
DTEND;VALUE=DATE:20250822
DTSTAMP:20260421T143846
CREATED:20250628T202440Z
LAST-MODIFIED:20250628T202509Z
UID:10000212-1755561600-1755820799@ibibrasil.org.br
SUMMARY:Feira CONCRETESHOW
DESCRIPTION:Concrete Show.. \nIBI com Presença marcada em Palestras\, e Painéis com o tema Impermeabilização
URL:https://ibibrasil.org.br/agenda/feira-concreteshow-2/
LOCATION:São Paulo Expo\, Rod. dos Imigrantes\, 1\,5 km\, São Paulo\, Brasil
CATEGORIES:Feira
ATTACH;FMTTYPE=image/jpeg:https://ibibrasil.org.br/wp-content/uploads/2025/06/cocncrete-25.jpeg
END:VEVENT
END:VCALENDAR