BEGIN:VCALENDAR
VERSION:2.0
PRODID:-//Ibibrasil - ECPv6.15.20//NONSGML v1.0//EN
CALSCALE:GREGORIAN
METHOD:PUBLISH
X-ORIGINAL-URL:https://ibibrasil.org.br
X-WR-CALDESC:Eventos para Ibibrasil
REFRESH-INTERVAL;VALUE=DURATION:PT1H
X-Robots-Tag:noindex
X-PUBLISHED-TTL:PT1H
BEGIN:VTIMEZONE
TZID:America/Sao_Paulo
BEGIN:STANDARD
TZOFFSETFROM:-0300
TZOFFSETTO:-0300
TZNAME:-03
DTSTART:20250101T000000
END:STANDARD
END:VTIMEZONE
BEGIN:VEVENT
DTSTART;VALUE=DATE:20260519
DTEND;VALUE=DATE:20260524
DTSTAMP:20260421T110928
CREATED:20260117T201650Z
LAST-MODIFIED:20260117T201650Z
UID:10000354-1779148800-1779580799@ibibrasil.org.br
SUMMARY:ENIC CBIC
DESCRIPTION:
URL:https://ibibrasil.org.br/agenda/enic-cbic/
LOCATION:São Paulo
CATEGORIES:Feira
ATTACH;FMTTYPE=image/jpeg:https://ibibrasil.org.br/wp-content/uploads/2026/01/enic_cbic.jpg
END:VEVENT
BEGIN:VEVENT
DTSTART;VALUE=DATE:20260528
DTEND;VALUE=DATE:20260530
DTSTAMP:20260421T110928
CREATED:20260117T201801Z
LAST-MODIFIED:20260117T201801Z
UID:10000355-1779926400-1780099199@ibibrasil.org.br
SUMMARY:Summit IDD
DESCRIPTION:
URL:https://ibibrasil.org.br/agenda/summit-idd/
LOCATION:São Paulo
CATEGORIES:Feira
ATTACH;FMTTYPE=image/jpeg:https://ibibrasil.org.br/wp-content/uploads/2026/01/idd.jpg
END:VEVENT
END:VCALENDAR