BEGIN:VCALENDAR
VERSION:2.0
PRODID:-//Ibibrasil - ECPv6.15.20//NONSGML v1.0//EN
CALSCALE:GREGORIAN
METHOD:PUBLISH
X-WR-CALNAME:Ibibrasil
X-ORIGINAL-URL:https://ibibrasil.org.br
X-WR-CALDESC:Eventos para Ibibrasil
REFRESH-INTERVAL;VALUE=DURATION:PT1H
X-Robots-Tag:noindex
X-PUBLISHED-TTL:PT1H
BEGIN:VTIMEZONE
TZID:America/Sao_Paulo
BEGIN:STANDARD
TZOFFSETFROM:-0300
TZOFFSETTO:-0300
TZNAME:-03
DTSTART:20250101T000000
END:STANDARD
END:VTIMEZONE
BEGIN:VEVENT
DTSTART;VALUE=DATE:20260624
DTEND;VALUE=DATE:20260628
DTSTAMP:20260421T122228
CREATED:20260117T201947Z
LAST-MODIFIED:20260117T202030Z
UID:10000356-1782259200-1782604799@ibibrasil.org.br
SUMMARY:CBPAT Alconpat
DESCRIPTION:
URL:https://ibibrasil.org.br/agenda/15-simper-aei-rio-de-janeiro-rj-copy/
LOCATION:São Paulo
CATEGORIES:Feira
ATTACH;FMTTYPE=image/jpeg:https://ibibrasil.org.br/wp-content/uploads/2026/01/cbpat-2.jpg
END:VEVENT
END:VCALENDAR