BEGIN:VCALENDAR
VERSION:2.0
PRODID:-//Ibibrasil - ECPv6.15.20//NONSGML v1.0//EN
CALSCALE:GREGORIAN
METHOD:PUBLISH
X-ORIGINAL-URL:https://ibibrasil.org.br
X-WR-CALDESC:Eventos para Ibibrasil
REFRESH-INTERVAL;VALUE=DURATION:PT1H
X-Robots-Tag:noindex
X-PUBLISHED-TTL:PT1H
BEGIN:VTIMEZONE
TZID:America/Sao_Paulo
BEGIN:STANDARD
TZOFFSETFROM:-0300
TZOFFSETTO:-0300
TZNAME:-03
DTSTART:20250101T000000
END:STANDARD
END:VTIMEZONE
BEGIN:VEVENT
DTSTART;VALUE=DATE:20260804
DTEND;VALUE=DATE:20260808
DTSTAMP:20260421T143715
CREATED:20260304T154331Z
LAST-MODIFIED:20260304T154331Z
UID:10000374-1785801600-1786147199@ibibrasil.org.br
SUMMARY:Construsul
DESCRIPTION:
URL:https://ibibrasil.org.br/agenda/construsul/
LOCATION:São Paulo
CATEGORIES:Feira
END:VEVENT
BEGIN:VEVENT
DTSTART;VALUE=DATE:20260811
DTEND;VALUE=DATE:20260815
DTSTAMP:20260421T143715
CREATED:20260117T202553Z
LAST-MODIFIED:20260117T202553Z
UID:10000359-1786406400-1786751999@ibibrasil.org.br
SUMMARY:Expo Construir
DESCRIPTION:
URL:https://ibibrasil.org.br/agenda/expo-construir/
LOCATION:São Paulo
CATEGORIES:Feira
ATTACH;FMTTYPE=image/jpeg:https://ibibrasil.org.br/wp-content/uploads/2026/01/expoconstruir.jpg
END:VEVENT
BEGIN:VEVENT
DTSTART;VALUE=DATE:20260812
DTEND;VALUE=DATE:20260815
DTSTAMP:20260421T143715
CREATED:20260117T202409Z
LAST-MODIFIED:20260117T202409Z
UID:10000358-1786492800-1786751999@ibibrasil.org.br
SUMMARY:ConstruNordeste
DESCRIPTION:
URL:https://ibibrasil.org.br/agenda/construnordeste/
LOCATION:São Paulo
CATEGORIES:Feira
ATTACH;FMTTYPE=image/jpeg:https://ibibrasil.org.br/wp-content/uploads/2026/01/construnordeste.jpg
END:VEVENT
BEGIN:VEVENT
DTSTART;VALUE=DATE:20260825
DTEND;VALUE=DATE:20260828
DTSTAMP:20260421T143715
CREATED:20260117T202905Z
LAST-MODIFIED:20260117T202905Z
UID:10000360-1787616000-1787875199@ibibrasil.org.br
SUMMARY:Concrete Show
DESCRIPTION:
URL:https://ibibrasil.org.br/agenda/concrete-show/
LOCATION:São Paulo
CATEGORIES:Feira
ATTACH;FMTTYPE=image/jpeg:https://ibibrasil.org.br/wp-content/uploads/2026/01/concrete.jpg
END:VEVENT
END:VCALENDAR