BEGIN:VCALENDAR
VERSION:2.0
PRODID:-//Ibibrasil - ECPv6.15.20//NONSGML v1.0//EN
CALSCALE:GREGORIAN
METHOD:PUBLISH
X-ORIGINAL-URL:https://ibibrasil.org.br
X-WR-CALDESC:Eventos para Ibibrasil
REFRESH-INTERVAL;VALUE=DURATION:PT1H
X-Robots-Tag:noindex
X-PUBLISHED-TTL:PT1H
BEGIN:VTIMEZONE
TZID:America/Sao_Paulo
BEGIN:STANDARD
TZOFFSETFROM:-0300
TZOFFSETTO:-0300
TZNAME:-03
DTSTART:20240101T000000
END:STANDARD
END:VTIMEZONE
BEGIN:VEVENT
DTSTART;TZID=America/Sao_Paulo:20250610T090000
DTEND;TZID=America/Sao_Paulo:20250610T110000
DTSTAMP:20260421T152440
CREATED:20250329T021813Z
LAST-MODIFIED:20250329T021813Z
UID:10000172-1749546000-1749553200@ibibrasil.org.br
SUMMARY:GT Cracking Bridging Ability (CBA)
DESCRIPTION:Quero participar dos Grupos de Trabalho do IBI. \nContato – Ibibrasil
URL:https://ibibrasil.org.br/agenda/gt-cracking-bridging-ability-cba-8/2025-06-10/
CATEGORIES:Grupos de Trabalho
END:VEVENT
BEGIN:VEVENT
DTSTART;TZID=America/Sao_Paulo:20250613T090000
DTEND;TZID=America/Sao_Paulo:20250613T110000
DTSTAMP:20260421T152440
CREATED:20250329T015753Z
LAST-MODIFIED:20250329T015753Z
UID:10000149-1749805200-1749812400@ibibrasil.org.br
SUMMARY:GT Estruturantes para Impermeabilização
DESCRIPTION:Quero participar dos Grupos de Trabalho do IBI. \nContato – Ibibrasil
URL:https://ibibrasil.org.br/agenda/gt-estruturantes-para-impermeabilizacao-7/2025-06-13/
CATEGORIES:Grupos de Trabalho
END:VEVENT
BEGIN:VEVENT
DTSTART;TZID=America/Sao_Paulo:20250613T140000
DTEND;TZID=America/Sao_Paulo:20250613T160000
DTSTAMP:20260421T152440
CREATED:20250329T020253Z
LAST-MODIFIED:20250329T020253Z
UID:10000152-1749823200-1749830400@ibibrasil.org.br
SUMMARY:GT Redutores de Permeabilidade
DESCRIPTION:Quero participar dos Grupos de Trabalho do IBI. \nContato – Ibibrasil
URL:https://ibibrasil.org.br/agenda/gt-redutores-de-permeabilidade-6/
CATEGORIES:Grupos de Trabalho
END:VEVENT
BEGIN:VEVENT
DTSTART;TZID=America/Sao_Paulo:20250618T090000
DTEND;TZID=America/Sao_Paulo:20250618T120000
DTSTAMP:20260421T152440
CREATED:20250329T020806Z
LAST-MODIFIED:20250329T020806Z
UID:10000160-1750237200-1750248000@ibibrasil.org.br
SUMMARY:GT Mantas de PVC ABNT NBR 9690
DESCRIPTION:Quero participar dos Grupos de Trabalho do IBI. \nContato – Ibibrasil
URL:https://ibibrasil.org.br/agenda/gt-mantas-de-pvc-abnt-nbr-9690-9/
CATEGORIES:Grupos de Trabalho,Normas ABNT
END:VEVENT
END:VCALENDAR