BEGIN:VCALENDAR
VERSION:2.0
PRODID:-//Ibibrasil - ECPv6.15.20//NONSGML v1.0//EN
CALSCALE:GREGORIAN
METHOD:PUBLISH
X-WR-CALNAME:Ibibrasil
X-ORIGINAL-URL:https://ibibrasil.org.br
X-WR-CALDESC:Eventos para Ibibrasil
REFRESH-INTERVAL;VALUE=DURATION:PT1H
X-Robots-Tag:noindex
X-PUBLISHED-TTL:PT1H
BEGIN:VTIMEZONE
TZID:America/Sao_Paulo
BEGIN:STANDARD
TZOFFSETFROM:-0300
TZOFFSETTO:-0300
TZNAME:-03
DTSTART:20240101T000000
END:STANDARD
END:VTIMEZONE
BEGIN:VEVENT
DTSTART;TZID=America/Sao_Paulo:20250701T090000
DTEND;TZID=America/Sao_Paulo:20250701T110000
DTSTAMP:20260421T142519
CREATED:20250703T222936Z
LAST-MODIFIED:20250703T222936Z
UID:10000231-1751360400-1751367600@ibibrasil.org.br
SUMMARY:GT Cracking Bridging Ability (CBA) - (adiada)
DESCRIPTION:Quero participar dos Grupos de Trabalho do IBI. \nContato – Ibibrasil
URL:https://ibibrasil.org.br/agenda/gt-cracking-bridging-ability-cba-adiada/2025-07-01/
CATEGORIES:Grupos de Trabalho
END:VEVENT
BEGIN:VEVENT
DTSTART;TZID=America/Sao_Paulo:20250704T090000
DTEND;TZID=America/Sao_Paulo:20250704T110000
DTSTAMP:20260421T142519
CREATED:20250628T200552Z
LAST-MODIFIED:20250628T200552Z
UID:10000200-1751619600-1751626800@ibibrasil.org.br
SUMMARY:GT Estruturantes para Impermeabilização
DESCRIPTION:Quero participar dos Grupos de Trabalho do IBI. \nContato – Ibibrasil
URL:https://ibibrasil.org.br/agenda/gt-estruturantes-para-impermeabilizacao-8/2025-07-04/
CATEGORIES:Grupos de Trabalho
END:VEVENT
BEGIN:VEVENT
DTSTART;TZID=America/Sao_Paulo:20250711T140000
DTEND;TZID=America/Sao_Paulo:20250711T160000
DTSTAMP:20260421T142519
CREATED:20250628T200856Z
LAST-MODIFIED:20250628T200856Z
UID:10000206-1752242400-1752249600@ibibrasil.org.br
SUMMARY:GT Redutores de Permeabilidade
DESCRIPTION:Quero participar dos Grupos de Trabalho do IBI. \nContato – Ibibrasil
URL:https://ibibrasil.org.br/agenda/gt-redutores-de-permeabilidade-7/
CATEGORIES:Grupos de Trabalho
END:VEVENT
END:VCALENDAR