BEGIN:VCALENDAR
VERSION:2.0
PRODID:-//Ibibrasil - ECPv6.15.20//NONSGML v1.0//EN
CALSCALE:GREGORIAN
METHOD:PUBLISH
X-ORIGINAL-URL:https://ibibrasil.org.br
X-WR-CALDESC:Eventos para Ibibrasil
REFRESH-INTERVAL;VALUE=DURATION:PT1H
X-Robots-Tag:noindex
X-PUBLISHED-TTL:PT1H
BEGIN:VTIMEZONE
TZID:America/Sao_Paulo
BEGIN:STANDARD
TZOFFSETFROM:-0300
TZOFFSETTO:-0300
TZNAME:-03
DTSTART:20240101T000000
END:STANDARD
END:VTIMEZONE
BEGIN:VEVENT
DTSTART;TZID=America/Sao_Paulo:20250902T090000
DTEND;TZID=America/Sao_Paulo:20250902T110000
DTSTAMP:20260421T152402
CREATED:20250628T200321Z
LAST-MODIFIED:20250628T200321Z
UID:10000196-1756803600-1756810800@ibibrasil.org.br
SUMMARY:GT Cracking Bridging Ability (CBA)
DESCRIPTION:Quero participar dos Grupos de Trabalho do IBI. \nContato – Ibibrasil
URL:https://ibibrasil.org.br/agenda/gt-cracking-bridging-ability-cba-11/2025-09-02/
CATEGORIES:Grupos de Trabalho
END:VEVENT
BEGIN:VEVENT
DTSTART;TZID=America/Sao_Paulo:20250905T090000
DTEND;TZID=America/Sao_Paulo:20250905T110000
DTSTAMP:20260421T152402
CREATED:20250628T200650Z
LAST-MODIFIED:20250628T200650Z
UID:10000202-1757062800-1757070000@ibibrasil.org.br
SUMMARY:GT Estruturantes para Impermeabilização
DESCRIPTION:Quero participar dos Grupos de Trabalho do IBI. \nContato – Ibibrasil
URL:https://ibibrasil.org.br/agenda/gt-estruturantes-para-impermeabilizacao-10/2025-09-05/
CATEGORIES:Grupos de Trabalho
END:VEVENT
BEGIN:VEVENT
DTSTART;TZID=America/Sao_Paulo:20250912T140000
DTEND;TZID=America/Sao_Paulo:20250912T160000
DTSTAMP:20260421T152402
CREATED:20250628T200941Z
LAST-MODIFIED:20250628T200941Z
UID:10000208-1757685600-1757692800@ibibrasil.org.br
SUMMARY:GT Redutores de Permeabilidade
DESCRIPTION:Quero participar dos Grupos de Trabalho do IBI. \nContato – Ibibrasil
URL:https://ibibrasil.org.br/agenda/gt-redutores-de-permeabilidade-9/
CATEGORIES:Grupos de Trabalho
END:VEVENT
END:VCALENDAR