BEGIN:VCALENDAR
VERSION:2.0
PRODID:-//Ibibrasil - ECPv6.15.20//NONSGML v1.0//EN
CALSCALE:GREGORIAN
METHOD:PUBLISH
X-ORIGINAL-URL:https://ibibrasil.org.br
X-WR-CALDESC:Eventos para Ibibrasil
REFRESH-INTERVAL;VALUE=DURATION:PT1H
X-Robots-Tag:noindex
X-PUBLISHED-TTL:PT1H
BEGIN:VTIMEZONE
TZID:America/Sao_Paulo
BEGIN:STANDARD
TZOFFSETFROM:-0300
TZOFFSETTO:-0300
TZNAME:-03
DTSTART:20250101T000000
END:STANDARD
END:VTIMEZONE
BEGIN:VEVENT
DTSTART;TZID=America/Sao_Paulo:20261006T090000
DTEND;TZID=America/Sao_Paulo:20261006T110000
DTSTAMP:20260421T142100
CREATED:20260116T182833Z
LAST-MODIFIED:20260116T182833Z
UID:10000258-1791277200-1791284400@ibibrasil.org.br
SUMMARY:GT Cracking Bridging Ability (CBA)
DESCRIPTION:Quero participar dos Grupos de Trabalho do IBI. \nContato – Ibibrasil
URL:https://ibibrasil.org.br/agenda/gt-cracking-bridging-ability-cba-23/2026-10-06/
CATEGORIES:Grupos de Trabalho
END:VEVENT
BEGIN:VEVENT
DTSTART;TZID=America/Sao_Paulo:20261006T140000
DTEND;TZID=America/Sao_Paulo:20261006T140000
DTSTAMP:20260421T142100
CREATED:20260117T155820Z
LAST-MODIFIED:20260117T155820Z
UID:10000336-1791295200-1791295200@ibibrasil.org.br
SUMMARY:GT Selantes (Guia)
DESCRIPTION:Quero participar dos Grupos de Trabalho do IBI. \nContato – Ibibrasil
URL:https://ibibrasil.org.br/agenda/gt-selantes-guia-5/
CATEGORIES:Grupos de Trabalho,Normas ABNT
END:VEVENT
BEGIN:VEVENT
DTSTART;TZID=America/Sao_Paulo:20261009T090000
DTEND;TZID=America/Sao_Paulo:20261009T110000
DTSTAMP:20260421T142100
CREATED:20260116T181630Z
LAST-MODIFIED:20260116T181709Z
UID:10000244-1791536400-1791543600@ibibrasil.org.br
SUMMARY:GT Estruturantes para Impermeabilização
DESCRIPTION:Quero participar dos Grupos de Trabalho do IBI. \nContato – Ibibrasil
URL:https://ibibrasil.org.br/agenda/gt-estruturantes-para-impermeabilizacao-22/2026-10-09/
CATEGORIES:Grupos de Trabalho
END:VEVENT
BEGIN:VEVENT
DTSTART;TZID=America/Sao_Paulo:20261015T090000
DTEND;TZID=America/Sao_Paulo:20261015T120000
DTSTAMP:20260421T142100
CREATED:20260117T154852Z
LAST-MODIFIED:20260117T154852Z
UID:10000328-1792054800-1792065600@ibibrasil.org.br
SUMMARY:GT Guia Desempenho e Vida Útil
DESCRIPTION:Quero participar dos Grupos de Trabalho do IBI. \nContato – Ibibrasil
URL:https://ibibrasil.org.br/agenda/gt-guia-desempenho-e-vida-util-9/
CATEGORIES:Grupos de Trabalho
END:VEVENT
BEGIN:VEVENT
DTSTART;TZID=America/Sao_Paulo:20261021T090000
DTEND;TZID=America/Sao_Paulo:20261021T120000
DTSTAMP:20260421T142100
CREATED:20260116T230426Z
LAST-MODIFIED:20260117T160257Z
UID:10000298-1792573200-1792584000@ibibrasil.org.br
SUMMARY:GT Mantas de PVC ABNT NBR 9690
DESCRIPTION:Quero participar dos Grupos de Trabalho do IBI. \nContato – Ibibrasil
URL:https://ibibrasil.org.br/agenda/gt-mantas-de-pvc-abnt-nbr-9690-20/
CATEGORIES:Grupos de Trabalho,Normas ABNT
END:VEVENT
BEGIN:VEVENT
DTSTART;TZID=America/Sao_Paulo:20261029T160000
DTEND;TZID=America/Sao_Paulo:20261029T160000
DTSTAMP:20260421T142100
CREATED:20260117T161220Z
LAST-MODIFIED:20260117T161220Z
UID:10000348-1793289600-1793289600@ibibrasil.org.br
SUMMARY:GT Marketing IBI
DESCRIPTION:Grupo Interno de Ações de Marketing do IBI. \nPara entrar em Contato com o IBI: \nContato – Ibibrasil \n 
URL:https://ibibrasil.org.br/agenda/gt-marketing-ibi-10/
CATEGORIES:Grupos de Trabalho
END:VEVENT
END:VCALENDAR