BEGIN:VCALENDAR
VERSION:2.0
PRODID:-//Ibibrasil - ECPv6.15.20//NONSGML v1.0//EN
CALSCALE:GREGORIAN
METHOD:PUBLISH
X-WR-CALNAME:Ibibrasil
X-ORIGINAL-URL:https://ibibrasil.org.br
X-WR-CALDESC:Eventos para Ibibrasil
REFRESH-INTERVAL;VALUE=DURATION:PT1H
X-Robots-Tag:noindex
X-PUBLISHED-TTL:PT1H
BEGIN:VTIMEZONE
TZID:America/Sao_Paulo
BEGIN:STANDARD
TZOFFSETFROM:-0300
TZOFFSETTO:-0300
TZNAME:-03
DTSTART:20250101T000000
END:STANDARD
END:VTIMEZONE
BEGIN:VEVENT
DTSTART;TZID=America/Sao_Paulo:20261103T090000
DTEND;TZID=America/Sao_Paulo:20261103T110000
DTSTAMP:20260421T142824
CREATED:20260116T182854Z
LAST-MODIFIED:20260116T182854Z
UID:10000259-1793696400-1793703600@ibibrasil.org.br
SUMMARY:GT Cracking Bridging Ability (CBA)
DESCRIPTION:Quero participar dos Grupos de Trabalho do IBI. \nContato – Ibibrasil
URL:https://ibibrasil.org.br/agenda/gt-cracking-bridging-ability-cba-24/2026-11-03/
CATEGORIES:Grupos de Trabalho
END:VEVENT
BEGIN:VEVENT
DTSTART;TZID=America/Sao_Paulo:20261105T090000
DTEND;TZID=America/Sao_Paulo:20261105T120000
DTSTAMP:20260421T142824
CREATED:20260117T154922Z
LAST-MODIFIED:20260117T154922Z
UID:10000329-1793869200-1793880000@ibibrasil.org.br
SUMMARY:GT Guia Desempenho e Vida Útil
DESCRIPTION:Quero participar dos Grupos de Trabalho do IBI. \nContato – Ibibrasil
URL:https://ibibrasil.org.br/agenda/gt-guia-desempenho-e-vida-util-10/
CATEGORIES:Grupos de Trabalho
END:VEVENT
BEGIN:VEVENT
DTSTART;TZID=America/Sao_Paulo:20261113T090000
DTEND;TZID=America/Sao_Paulo:20261113T110000
DTSTAMP:20260421T142824
CREATED:20260116T181607Z
LAST-MODIFIED:20260116T181729Z
UID:10000243-1794560400-1794567600@ibibrasil.org.br
SUMMARY:GT Estruturantes para Impermeabilização
DESCRIPTION:Quero participar dos Grupos de Trabalho do IBI. \nContato – Ibibrasil
URL:https://ibibrasil.org.br/agenda/gt-estruturantes-para-impermeabilizacao-21/2026-11-13/
CATEGORIES:Grupos de Trabalho
END:VEVENT
BEGIN:VEVENT
DTSTART;TZID=America/Sao_Paulo:20261118T090000
DTEND;TZID=America/Sao_Paulo:20261118T120000
DTSTAMP:20260421T142824
CREATED:20260116T230455Z
LAST-MODIFIED:20260117T160301Z
UID:10000299-1794992400-1795003200@ibibrasil.org.br
SUMMARY:GT Mantas de PVC ABNT NBR 9690
DESCRIPTION:Quero participar dos Grupos de Trabalho do IBI. \nContato – Ibibrasil
URL:https://ibibrasil.org.br/agenda/gt-mantas-de-pvc-abnt-nbr-9690-21/
CATEGORIES:Grupos de Trabalho,Normas ABNT
END:VEVENT
BEGIN:VEVENT
DTSTART;TZID=America/Sao_Paulo:20261124T140000
DTEND;TZID=America/Sao_Paulo:20261124T140000
DTSTAMP:20260421T142824
CREATED:20260117T151225Z
LAST-MODIFIED:20260117T151403Z
UID:10000306-1795528800-1795528800@ibibrasil.org.br
SUMMARY:CT 501
DESCRIPTION:Quero participar dos Grupos de Trabalho do IBI. \nContato – Ibibrasil
URL:https://ibibrasil.org.br/agenda/ct-501-14/2026-11-24/
CATEGORIES:Grupos de Trabalho
END:VEVENT
BEGIN:VEVENT
DTSTART;TZID=America/Sao_Paulo:20261126T160000
DTEND;TZID=America/Sao_Paulo:20261126T160000
DTSTAMP:20260421T142824
CREATED:20260117T161242Z
LAST-MODIFIED:20260117T161242Z
UID:10000349-1795708800-1795708800@ibibrasil.org.br
SUMMARY:GT Marketing IBI
DESCRIPTION:Grupo Interno de Ações de Marketing do IBI. \nPara entrar em Contato com o IBI: \nContato – Ibibrasil \n 
URL:https://ibibrasil.org.br/agenda/gt-marketing-ibi-11/
CATEGORIES:Grupos de Trabalho
END:VEVENT
END:VCALENDAR