BEGIN:VCALENDAR
VERSION:2.0
PRODID:-//Ibibrasil - ECPv6.15.20//NONSGML v1.0//EN
CALSCALE:GREGORIAN
METHOD:PUBLISH
X-WR-CALNAME:Ibibrasil
X-ORIGINAL-URL:https://ibibrasil.org.br
X-WR-CALDESC:Eventos para Ibibrasil
REFRESH-INTERVAL;VALUE=DURATION:PT1H
X-Robots-Tag:noindex
X-PUBLISHED-TTL:PT1H
BEGIN:VTIMEZONE
TZID:America/Sao_Paulo
BEGIN:STANDARD
TZOFFSETFROM:-0300
TZOFFSETTO:-0300
TZNAME:-03
DTSTART:20230101T000000
END:STANDARD
END:VTIMEZONE
BEGIN:VEVENT
DTSTART;TZID=America/Sao_Paulo:20240905T130000
DTEND;TZID=America/Sao_Paulo:20240905T193000
DTSTAMP:20260423T003310
CREATED:20240819T213340Z
LAST-MODIFIED:20240822T234431Z
UID:10000017-1725541200-1725564600@ibibrasil.org.br
SUMMARY:12º Seminário Regional de Impermeabilização em Campinas/SP – 05/09/2024
DESCRIPTION:12º Seminário Regional de Impermeabilização em Campinas/SP\nData:  05/09/2024\nLocal: Auditório da Universidade São Francisco\nRua Waldemar César da Silveira 105 Jardim Cura DArs – Campinas \nPúblico-alvo: Construtores\, projetistas\, especificadores\, profissionais de execução e distribuição\, arquitetos\, engenheiros e estudantes interessados no tema. \nPúblico esperado: em torno de 150 profissionais presenciais e 300 pela web \nObjetivo do evento: Evento técnico-científico com a participação de renomados profissionais\, com expertise sobre os temas apresentados para propiciar a ampliação de conhecimentos sobre os sistemas de impermeabilização\, com ênfase em projetos\, normalização\, desempenho de sistemas de impermeabilização e como obter a vida útil de projeto dos sistemas impermeabilizantes. \nProgramação do evento: \n13h00 – Credenciamento\n13h30 – Abertura para entidades de apoio: (AEAC\, CREA-SP\, Mútua-SP\, Sinduscon-Campinas e IBI)\n14h00 – Palestra: A Importância da Mútua para os profissionais\nPalestrante: Engº Renato Archanjo de Castro\n14h20 – Palestra: A importância do Projeto de Impermeabilização\nPalestrante: Engº José Mario Andrello\n14h40 – Palestra: Guia Orientativo de Sistemas de impermeabilização\nPalestrante: Engº José Miguel Morgado\n15h00 – Palestra: Prevenção de Patologias em Revestimentos de Fachadas\nPalestrante: Engª Luciana Maciel\n15h20 – Palestra: Prevenção de Patologias na Impermeabilização\nPalestrante: Engº César Serafim\n15h40 – Palestra: Mantas Engenheiradas: Como a construção off site diminui o tempo de instalação\, controla a qualidade e a segurança dos aplicadores aumentando a lucratividade\nPalestrante: Engº Gabriel Mota\n16h00 – Debate (20 minutos)\n16h20 – Coffee Break (30 minutos)\n16h50 – Palestra: Mantas Asfálticas – O Estado da Arte\nPalestrante: Arqtº Dárcio Beluzi\n17h10 – Palestra: Inovação na aplicação de Mantas Asfálticas\nPalestrante: Engº Victor Guedes\n17h30 – Palestra: Membranas de Polímero Acrílico com Cimento\nPalestrante: Engº Joaquim Souza\n17h50 – Palestra: Membrana de Poliuretano para Impermeabilização – Conceitos e Boas Práticas Palestrante: Engº André Albiero\n18h10 – Palestra: Materiais sintéticos para impermeabilização: membranas e mantas\nPalestrante: Engº Francisco Rey Puente\n18h30 – Palestra: Membranas acrílicas para Impermeabilização\nPalestrante: Engº Flávio Taurino\n18h50 – Palestra: Inovação na linha de membranas\nPalestrante: Engº Gleyson Marzola\n19h10 – Debate (20 minutos)\n19h30 – Encerramento \nLINK PARA INSCRIÇÃO GRATUITA NO EVENTO:
URL:https://ibibrasil.org.br/agenda/12o-seminario-regional-de-impermeabilizacao-em-campinas-sp-05-09-2024/
LOCATION:Auditório Universidade São Francisco\, Rua Waldemar César da Silveira\, 105\, Campinas\, São Paulo\, Brasil
CATEGORIES:Seminário
ATTACH;FMTTYPE=image/jpeg:https://ibibrasil.org.br/wp-content/uploads/2024/08/12-Seminario-Campinas.66bfef3c659d78-hiresss.jpg
END:VEVENT
END:VCALENDAR