BEGIN:VCALENDAR
VERSION:2.0
PRODID:-//Ibibrasil - ECPv6.15.20//NONSGML v1.0//EN
CALSCALE:GREGORIAN
METHOD:PUBLISH
X-ORIGINAL-URL:https://ibibrasil.org.br
X-WR-CALDESC:Eventos para Ibibrasil
REFRESH-INTERVAL;VALUE=DURATION:PT1H
X-Robots-Tag:noindex
X-PUBLISHED-TTL:PT1H
BEGIN:VTIMEZONE
TZID:America/Sao_Paulo
BEGIN:STANDARD
TZOFFSETFROM:-0300
TZOFFSETTO:-0300
TZNAME:-03
DTSTART:20240101T000000
END:STANDARD
END:VTIMEZONE
BEGIN:VEVENT
DTSTART;VALUE=DATE:20251105
DTEND;VALUE=DATE:20251107
DTSTAMP:20260421T142231
CREATED:20250628T204139Z
LAST-MODIFIED:20250628T204139Z
UID:10000214-1762300800-1762473599@ibibrasil.org.br
SUMMARY:15° SIMPER - AEI - Rio de Janeiro - RJ
DESCRIPTION:
URL:https://ibibrasil.org.br/agenda/15-simper-aei-rio-de-janeiro-rj/
CATEGORIES:Seminário
ATTACH;FMTTYPE=image/avif:https://ibibrasil.org.br/wp-content/uploads/2025/06/aei-25.avif
END:VEVENT
BEGIN:VEVENT
DTSTART;VALUE=DATE:20251107
DTEND;VALUE=DATE:20251108
DTSTAMP:20260421T142231
CREATED:20250901T195028Z
LAST-MODIFIED:20251017T195002Z
UID:10000232-1762473600-1762559999@ibibrasil.org.br
SUMMARY:14º Seminário Regional de Impermeabilização em Goiânia/GO – 07/11/2025
DESCRIPTION:14º Seminário Regional de Impermeabilização em Goiânia/GO:\nData:  07/11/2025\nLocal: Sinduscon GO\nGoiânia – GO \nPúblico-alvo: Construtores\, projetistas\, especificadores\, profissionais de execução e distribuição\, arquitetos\, engenheiros e estudantes interessados no tema. \nPúblico esperado: em torno de 150 profissionais presenciais\, e 300 pela web \nObjetivo do evento: Evento técnico-científico com a participação de renomados profissionais\, com expertise sobre os temas apresentados para propiciar a ampliação de conhecimentos sobre os sistemas de impermeabilização\, com ênfase em projetos\, normalização\, desempenho de sistemas de impermeabilização e como obter a vida útil de projeto dos sistemas impermeabilizantes. \nProgramação do evento:  \n13h00 – Credenciamento\n13h30 – Abertura para entidades de apoio (Sinduscon-GO e IBI)\n14h00 – Palestra: A Importância da Tríade: Projeto\, Produto e Mão de Obra\nPalestrante: Engº Thiago Vallotti de Freitas\n14h20 – Palestra: Guia Orientativo de Sistemas de impermeabilização\nPalestrante: Engº José Miguel Morgado\n14h40 – Palestra: Falhas e soluções de membranas acrílicas sem cimento\nPalestrante: Engª. Alessandra Valério\n15h00 – Palestra: Prevenção de Patologias na Impermeabilização\nPalestrante: Engº Daniel Beserra\n15h20 – Palestra: Inovação na impermeabilização\nPalestrante: Engº Rafael Silva\n15h40 – Palestra: Inovação na linha de membranas\nPalestrante: Engº Flávio Taurino\n16h00 – Debate (20 minutos)\n16h20 – Coffee Break (30 minutos)\n16h50 – Palestra: Membranas de Polímero Acrílico com Cimento\nPalestrante: Esp. Maria Cláudia Makarec\n17h10 – Palestra: Como garantir a estanqueidade em subsolos\nPalestrante: Engº Caio Cruz\n17h30 – Palestra: Impermeabilização de Silos\nPalestrante: Engº Francisco Rey Puente\n17h50 – Palestra: Mantas Asfálticas – O Estado da Arte\nPalestrante: Arqtº Emerson Bispo\n18h10 – Palestra: Inovação na aplicação de Mantas Asfálticas\nPalestrante: En0ª Flávia Baldini\n18h30 – Debate (20 minutos)\n18h50 – Encerramento \n  \nLINK DA PROGRAMAÇÃO DO EVENTO EVENTO (clicar abaixo abrirá um pdf):\n \nProgramação 14º Seminário de Impermeabilização em Goiânia \n  \nLINK PARA INSCRIÇÃO NO EVENTO (clicar abaixo fará o redirecionamento):\n \nRoadshow Goiânia + 14º Seminário de Impermeabilização em Goiânia – Sympla \nAPOIOS: \n \nPATROCINADORES: \n \n \nREALIZAÇÃO:
URL:https://ibibrasil.org.br/agenda/14o-seminario-regional-de-impermeabilizacao-em-goiania-go-07-11-2025/
LOCATION:Sinduscon GO\, R. João de Abreu\, nº 427\, Goiânia\, Goías\, 74120-110\, Brazil
CATEGORIES:Seminário
ATTACH;FMTTYPE=image/jpeg:https://ibibrasil.org.br/wp-content/uploads/2025/09/14-semi.jpg
ORGANIZER;CN="IBI":MAILTO:ibi@ibibrasil.org.br
END:VEVENT
BEGIN:VEVENT
DTSTART;VALUE=DATE:20251113
DTEND;VALUE=DATE:20251114
DTSTAMP:20260421T142231
CREATED:20251017T195710Z
LAST-MODIFIED:20251017T200709Z
UID:10000233-1762992000-1763078399@ibibrasil.org.br
SUMMARY:1º Fórum IBI de Impermeabilização em Porto Alegre/RS – 13/11/2025
DESCRIPTION:1º Fórum IBI de Impermeabilização em Porto Alegre/RS \nData: 13/11/2025\nLocal: Sinduscon/RS\nRua Augusto Meyer\, 146\, Porto Alegre/RS \nPúblico-alvo: Construtores\, incorporadores\, projetistas\, especificadores\, profissionais de execução e distribuição\,\narquitetos\, engenheiros e estudantes interessados no tema. \nPúblico esperado em torno de 126 profissionais\, presencialmente. \nObjetivo do evento: Dois painéis onde teremos convidados construtores e incorporadores\, fabricantes\,\naplicadores e projetista de impermeabilização com o intuito de debater “Aplicações práticas da IA na construção\ncivil e indústria impermeabilização” e “Mão de Obra e Produtividade na construção civil e impermeabilização”. \n13h30 – Credenciamento\n14h00 – Abertura (Sinduscon-RS e IBI)\n14h30 – 1º Painel:\nAplicações práticas da IA na construção civil e indústria impermeabilização\nPalestrante: Engª Melissa Trevisan (GX2)\nMediador:\nEngº Leonardo Treiguer (PRÓ ENG)\nPainelistas:\nAdm. Darcy Pianta (Q-BORG)\nEngº Ricardo Faria (SOPREMA)\nEngº Flavio Nunes (Kristal)\nEngº Arthur Henrique Dienstmann (DIENSTMANN)\n16h00 – Coffee Break (30 minutos)\n16h30 – 2º Painel:\nMão de Obra e Produtividade na construção civil e impermeabilização\nPalestrante: Engº Ricardo Michelon (Vice-presidente da CBIC e Sinduscon-RS)\nMediador:\nEngº Rafael Lonzetti (RBL)\nPainelistas:\nEngº Fábio André Viecili (BUILDER)\nTecngº Abel Torreal (FLEXOTOM)\nEngº Rubem Piccoli (MELNICK)\nEngº Gustavo Navarro (CYRELA)\nEngª Aline Zanini (CRIZÁLI)\n18h00 – Encerramento \n  \nLINK DA PROGRAMAÇÃO DO EVENTO EVENTO (clicar abaixo abrirá um pdf):\n \nProgramação 1º Fórum de Impermeabilização RS \n  \nLINK PARA INSCRIÇÃO GRATUITA NO EVENTO (clicar abaixo abrirá um formulário de inscrição):\n \n1º Fórum de Impermeabilização – RS \n  \nAPOIOS: \n \nPATROCINADORES: \n \n \nREALIZAÇÃO:
URL:https://ibibrasil.org.br/agenda/1-foruml-de-impermeabilizacao-rs/
LOCATION:Sinduscon RS\, Av. Augusto Meyer\, 146 - Auxiliadora\, Porto Alegre - RS\, 90550-110\, Porto Alegre\, Rio Grande do Sul\, 90550-110\, Brazil
CATEGORIES:Seminário
ATTACH;FMTTYPE=image/png:https://ibibrasil.org.br/wp-content/uploads/2025/10/1-forum-logo.png
ORGANIZER;CN="IBI":MAILTO:ibi@ibibrasil.org.br
END:VEVENT
END:VCALENDAR