BEGIN:VCALENDAR
VERSION:2.0
PRODID:-//Ibibrasil - ECPv6.15.20//NONSGML v1.0//EN
CALSCALE:GREGORIAN
METHOD:PUBLISH
X-WR-CALNAME:Ibibrasil
X-ORIGINAL-URL:https://ibibrasil.org.br
X-WR-CALDESC:Eventos para Ibibrasil
REFRESH-INTERVAL;VALUE=DURATION:PT1H
X-Robots-Tag:noindex
X-PUBLISHED-TTL:PT1H
BEGIN:VTIMEZONE
TZID:America/Sao_Paulo
BEGIN:STANDARD
TZOFFSETFROM:-0300
TZOFFSETTO:-0300
TZNAME:-03
DTSTART:20250101T000000
END:STANDARD
END:VTIMEZONE
BEGIN:VEVENT
DTSTART;TZID=America/Sao_Paulo:20260424T090000
DTEND;TZID=America/Sao_Paulo:20260424T110000
DTSTAMP:20260421T075917
CREATED:20260212T031608Z
LAST-MODIFIED:20260401T220148Z
UID:10000240-1777021200-1777028400@ibibrasil.org.br
SUMMARY:GT Estruturantes para Impermeabilização
DESCRIPTION:Quero participar dos Grupos de Trabalho do IBI. \nContato – Ibibrasil
URL:https://ibibrasil.org.br/agenda/gt-estruturantes-para-impermeabilizacao-17-2/
LOCATION:São Paulo
CATEGORIES:Grupos de Trabalho
END:VEVENT
BEGIN:VEVENT
DTSTART;TZID=America/Sao_Paulo:20260428T160000
DTEND;TZID=America/Sao_Paulo:20260428T160000
DTSTAMP:20260421T075917
CREATED:20260227T151419Z
LAST-MODIFIED:20260227T151419Z
UID:10000373-1777392000-1777392000@ibibrasil.org.br
SUMMARY:Eleições do IBI
DESCRIPTION:Eleições Gerais do IBI \n 
URL:https://ibibrasil.org.br/agenda/eleicoes-do-ibi/
LOCATION:São Paulo
END:VEVENT
BEGIN:VEVENT
DTSTART;VALUE=DATE:20260429
DTEND;VALUE=DATE:20260501
DTSTAMP:20260421T075917
CREATED:20260117T201458Z
LAST-MODIFIED:20260117T201458Z
UID:10000353-1777420800-1777593599@ibibrasil.org.br
SUMMARY:ENICS
DESCRIPTION:
URL:https://ibibrasil.org.br/agenda/enics/
LOCATION:São Paulo
CATEGORIES:Feira
END:VEVENT
BEGIN:VEVENT
DTSTART;TZID=America/Sao_Paulo:20260429T090000
DTEND;TZID=America/Sao_Paulo:20260429T120000
DTSTAMP:20260421T075917
CREATED:20260116T225628Z
LAST-MODIFIED:20260117T160234Z
UID:10000292-1777453200-1777464000@ibibrasil.org.br
SUMMARY:GT Mantas de PVC ABNT NBR 9690
DESCRIPTION:Quero participar dos Grupos de Trabalho do IBI. \nContato – Ibibrasil
URL:https://ibibrasil.org.br/agenda/gt-mantas-de-pvc-abnt-nbr-9690-14/
LOCATION:São Paulo
CATEGORIES:Grupos de Trabalho,Normas ABNT
END:VEVENT
BEGIN:VEVENT
DTSTART;TZID=America/Sao_Paulo:20260430T160000
DTEND;TZID=America/Sao_Paulo:20260430T160000
DTSTAMP:20260421T075917
CREATED:20260117T160925Z
LAST-MODIFIED:20260117T160925Z
UID:10000342-1777564800-1777564800@ibibrasil.org.br
SUMMARY:GT Marketing IBI
DESCRIPTION:Grupo Interno de Ações de Marketing do IBI. \nPara entrar em Contato com o IBI: \nContato – Ibibrasil \n 
URL:https://ibibrasil.org.br/agenda/gt-marketing-ibi-4/
LOCATION:São Paulo
CATEGORIES:Grupos de Trabalho
END:VEVENT
END:VCALENDAR