BEGIN:VCALENDAR
VERSION:2.0
PRODID:-//Ibibrasil - ECPv6.15.20//NONSGML v1.0//EN
CALSCALE:GREGORIAN
METHOD:PUBLISH
X-WR-CALNAME:Ibibrasil
X-ORIGINAL-URL:https://ibibrasil.org.br
X-WR-CALDESC:Eventos para Ibibrasil
REFRESH-INTERVAL;VALUE=DURATION:PT1H
X-Robots-Tag:noindex
X-PUBLISHED-TTL:PT1H
BEGIN:VTIMEZONE
TZID:America/Sao_Paulo
BEGIN:STANDARD
TZOFFSETFROM:-0300
TZOFFSETTO:-0300
TZNAME:-03
DTSTART:20240101T000000
END:STANDARD
END:VTIMEZONE
BEGIN:VEVENT
DTSTART;VALUE=DATE:20250917
DTEND;VALUE=DATE:20250919
DTSTAMP:20260421T141739
CREATED:20250628T203744Z
LAST-MODIFIED:20250901T194116Z
UID:10000213-1758067200-1758239999@ibibrasil.org.br
SUMMARY:IV AME Impermeabilização - Manuaus - AM
DESCRIPTION:IV AME – Manaus – AM\n17 e 18/09 \n\nConheça o Evento\nAME Impermeabilização (@ameimpermeabilizacao) • Fotos e vídeos do Instagram \n\nInscrição\nEm Breve \n \nDescrição do evento\n\nVenha participar do 4° Fórum: AME Impermeabilização! Este evento imperdível acontecerá em Manaus e promete ser uma experiência enriquecedora para todos os entusiastas e profissionais do setor de engenharia. Durante o fórum\, você terá a oportunidade de participar de palestras informativas e inspiradoras sobre o tema\, ministradas por especialistas renomados.\n\nAlém disso\, o evento contará com a emocionante cerimônia de entrega de prêmios\, onde serão reconhecidas as contribuições excepcionais para o avanço da impermeabilização. Também haverá momentos especiais de homenagens\, celebrando aqueles que têm se destacado na área.\nE mais uma vez\, ao participar do evento\, você estará contribuindo para uma causa nobre. Todos os lucros obtidos a partir dos ingressos serão convertidos para Entidade Beneficente.\n\nNão perca esta oportunidade única de aprender\, se inspirar e fazer a diferença. Junte-se a nós no AME Impermeabilização e seja parte dessa iniciativa incrível!\n\n  \nPROGRAMAÇÃO TÉCNICA \nIV AME – MANAUS/AM \n\n\n\n1º DIA – 17/09/2025\n\n\n17:00 – 17:30\nRecepção e Credenciamento\n\n\n17:30 – 17:40\nPronunciamento de Boas-Vindas com a palestra: \nA importância da Impermeabilização\, Prof. Elton Góes\, Fundador do AME Impermeabilização\n\n\n17:45 – 17:50\nVídeo institucional do Instituto  Jannel Doyle\n\n\n17:55 – 18:10\nResumo 18° SIMPÓSIO IBI – Palestra IBI\n\n\n18:10 – 18:25\nResumo 14° Seminário AEI – Palestra AEI\n\n\n  \n  \n  \n  \n  \n18:30 – 18:50 \n  \n  \n19:00 – 19:30\nMESA REDONDA I – A VISÃO DO CONSTRUTOR \nNesta mesa o mediador conversará com os construtores sobre como a impermeabilização é vista no setor\, quais os critérios que adotam para a contratação de projetistas de impermeabilização\, empresas de aplicação e materiais. Quais as principais agruras? \n  \nConstrutor Convidado: Vai passar um panorama do mercado local em breves 10 minutos \n  \nPARTICIPANTES CONSTRUTORA: \nEng° Daniel Leitão – Gerente – CONSTRUTORA CAPITAL \n  \nPARTICIPANTES MERCADO: \nAplicador: Frank \nFabricante:  Demétrius (Quatzolit) \nProjetista: Profa. Maria Amélia Silveira (MAS Consultoria) \n  \nMEDIADOR: \nAEI – Cláudia (Cetimper)\n\n\n19:30 – 20:00\nCoffee-Break\n\n\n  \n  \n  \n  \n  \n  \n20:20 – 21:30\nDEBATE TÉCNICO “PINGA-FOGO” \nNesta seção o público é convidado a participar via pergunta do notável\, sem termos participantes pré-determinados que farão suas perguntas aos debatedores e o mediador irá conduzindo a discussão para que haja discussão entre os presentes. \n  \nBANCA DE DEBATEDORES: \nAplicador: Suzanne (Proteção Engenharia) \nLaboratório: Paulo Henrique (Imperlab) \nFabricante: Anderson (Vedacit) \nProjetista: Jaqueline Zubelli (Bleza) \n  \nMEDIADOR: \nIBI – José Miguel \n \n\n\n\n\n\n\n2º DIA – 18/09/2025\n\n\n17:00 – 17:30\nRecepção\n\n\n17:30 – 17:50\nAbertura do 2º dia com entrega do prêmio Maria Amélia Silveira – AME \nSugestão dois nomes nacionais (Sr. Orlando e Emílio) Embaixador escolhe o nome local\n\n\n17:50 – 18:50\nMESA REDONDA II – Coletânea de perguntas “cretinas premium” \nNesta mesa o mediador apresentará as caixinhas perguntas da plateia para os profissionais (por QR CIODE e já solta no primeiro dia). \n  \nPAINEL COM: \nAplicador: Milton (Escola da Impermeabilização) \nFabricante: Vicente Menta  (Hemisfério) \nFabricante: Edinei Lopes (SP Imper) \nProjetista: Sr. Orlando Cunha (NC Flanges) \n  \nMEDIADORA: Bruna Siciliano (Siciliano Engenharia) \n \n\n\n  \n  \n  \n  \n18:50 – 19:30\nMESA REDONDA III – O “desincrível” acontece \nNesta seção o mediador apresentará uma coletânea de absurdos\, melhor de situações “desincríveis” que acontece no mundo IMPER com exemplos de fotos e situações\, ele irá “animar” plateia e mesa com essas situações para debate. A intenção é apresentar a carência de conhecimento do setor \n  \nPAINEL COM: \nAplicador 1: Arthur (Imperthane) \nFabricante: Joaquim (Dryko) \nFabricante: Giseli Paiva (MC Bauchemie) \nProjetista: Alexandre Soncini (Acqualumi) \n  \nMEDIADOR: \nIBI – José Miguel Morgado \n \n\n\n19:30 – 20:00\nCoffee-Break\n\n\n  \n  \n20:00 – 21:30\nDEBATE TÉCNICO “PINGA-FOGO” \nNesta seção o público é convidado a participar via pergunta do notável\, sem termos participantes pré-determinados que farão suas perguntas aos debatedores e o mediador irá conduzindo a discussão para que haja discussão entre os presentes. \n  \nBANCA DE DEBATEDORES: \nAplicador: Paulo Vitor (Conimper) \nFabricante 1: Valporê (Viapol) \nFabricante 2: Sérgio Guerra (Soprema) \nConsultor: Emílio Takagi \n  \n  \nMEDIADOR: \nAEI – Renato Giro (Primer)
URL:https://ibibrasil.org.br/agenda/iv-ame-impermeabilizacao-manuaus-am/
LOCATION:Sinduscon AM\, Av. Djalma Batista\, 1719\, Manaus\, AM\, Brazil
CATEGORIES:Palestra
ATTACH;FMTTYPE=image/png:https://ibibrasil.org.br/wp-content/uploads/2025/06/ame-25.png
END:VEVENT
END:VCALENDAR